BEGIN:VCALENDAR
VERSION:2.0
PRODID:-//Stratis iCal API//FR
CALSCALE:GREGORIAN
X-WR-CALNAME:Vil & Misérable
BEGIN:VEVENT
UID:event-1925
SUMMARY:Vil & Misérable
DESCRIPTION:
DTSTAMP:20260421T220000Z
DTSTART:20260423T153500Z
DTEND:20260423T153500Z
STATUS:CONFIRMED
SEQUENCE:3
BEGIN:VALARM
TRIGGER:-PT30M
DESCRIPTION:Vil & Misérable
ACTION:DISPLAY
END:VALARM
END:VEVENT
END:VCALENDAR