BEGIN:VCALENDAR
VERSION:2.0
PRODID:-//Stratis iCal API//FR
CALSCALE:GREGORIAN
X-WR-CALNAME:Silent Friend - Cloned
BEGIN:VEVENT
UID:event-1924
SUMMARY:Silent Friend - Cloned
DESCRIPTION:
DTSTAMP:20260421T220000Z
DTSTART:20260423T162500Z
DTEND:20260423T162500Z
STATUS:CONFIRMED
SEQUENCE:2
BEGIN:VALARM
TRIGGER:-PT30M
DESCRIPTION:Silent Friend - Cloned
ACTION:DISPLAY
END:VALARM
END:VEVENT
END:VCALENDAR