BEGIN:VCALENDAR
VERSION:2.0
PRODID:-//Stratis iCal API//FR
CALSCALE:GREGORIAN
X-WR-CALNAME:Yellow Letters
BEGIN:VEVENT
UID:event-1923
SUMMARY:Yellow Letters
DESCRIPTION:
DTSTAMP:20260421T220000Z
DTSTART:20260423T140500Z
DTEND:20260423T140500Z
STATUS:CONFIRMED
SEQUENCE:5
BEGIN:VALARM
TRIGGER:-PT30M
DESCRIPTION:Yellow Letters
ACTION:DISPLAY
END:VALARM
END:VEVENT
END:VCALENDAR