BEGIN:VCALENDAR
VERSION:2.0
PRODID:-//Stratis iCal API//FR
CALSCALE:GREGORIAN
X-WR-CALNAME:Soumsoum, la nuit des astres
BEGIN:VEVENT
UID:event-1921
SUMMARY:Soumsoum  la nuit des astres
DESCRIPTION:
DTSTAMP:20260421T220000Z
DTSTART:20260425T161500Z
DTEND:20260425T161500Z
STATUS:CONFIRMED
SEQUENCE:3
BEGIN:VALARM
TRIGGER:-PT30M
DESCRIPTION:Soumsoum  la nuit des astres
ACTION:DISPLAY
END:VALARM
END:VEVENT
END:VCALENDAR