BEGIN:VCALENDAR
VERSION:2.0
PRODID:-//Stratis iCal API//FR
CALSCALE:GREGORIAN
X-WR-CALNAME:Sans retour possible
BEGIN:VEVENT
UID:event-1919
SUMMARY:Sans retour possible
DESCRIPTION:
DTSTAMP:20260421T220000Z
DTSTART:20260422T134500Z
DTEND:20260422T134500Z
STATUS:CONFIRMED
SEQUENCE:5
BEGIN:VALARM
TRIGGER:-PT30M
DESCRIPTION:Sans retour possible
ACTION:DISPLAY
END:VALARM
END:VEVENT
END:VCALENDAR