BEGIN:VCALENDAR
VERSION:2.0
PRODID:-//Stratis iCal API//FR
CALSCALE:GREGORIAN
X-WR-CALNAME:Lenaki: deux incendies, deux malédictions
BEGIN:VEVENT
UID:event-1914
SUMMARY:Lenaki: deux incendies  deux malédictions
DESCRIPTION:
DTSTAMP:20260421T220000Z
DTSTART:20260424T160000Z
DTEND:20260424T160000Z
STATUS:CONFIRMED
SEQUENCE:3
BEGIN:VALARM
TRIGGER:-PT30M
DESCRIPTION:Lenaki: deux incendies  deux malédictions
ACTION:DISPLAY
END:VALARM
END:VEVENT
END:VCALENDAR