BEGIN:VCALENDAR
VERSION:2.0
PRODID:-//Stratis iCal API//FR
CALSCALE:GREGORIAN
X-WR-CALNAME:Le Cri des gardes
BEGIN:VEVENT
UID:event-1912
SUMMARY:Le Cri des gardes
DESCRIPTION:
DTSTAMP:20260421T220000Z
DTSTART:20260422T152500Z
DTEND:20260422T152500Z
STATUS:CONFIRMED
SEQUENCE:4
BEGIN:VALARM
TRIGGER:-PT30M
DESCRIPTION:Le Cri des gardes
ACTION:DISPLAY
END:VALARM
END:VEVENT
END:VCALENDAR