BEGIN:VCALENDAR
VERSION:2.0
PRODID:-//Stratis iCal API//FR
CALSCALE:GREGORIAN
X-WR-CALNAME:La Terre de mon grand-père (Partie 1 : L’Héritage)
BEGIN:VEVENT
UID:event-1911
SUMMARY:La Terre de mon grand-père (Partie 1 : L’Héritage)
DESCRIPTION:
DTSTAMP:20260421T220000Z
DTSTART:20260423T164500Z
DTEND:20260423T164500Z
STATUS:CONFIRMED
SEQUENCE:5
BEGIN:VALARM
TRIGGER:-PT30M
DESCRIPTION:La Terre de mon grand-père (Partie 1 : L’Héritage)
ACTION:DISPLAY
END:VALARM
END:VEVENT
END:VCALENDAR