BEGIN:VCALENDAR
VERSION:2.0
PRODID:-//Stratis iCal API//FR
CALSCALE:GREGORIAN
X-WR-CALNAME:Drunken Noodles
BEGIN:VEVENT
UID:event-1908
SUMMARY:Drunken Noodles
DESCRIPTION:
DTSTAMP:20260421T220000Z
DTSTART:20260425T163000Z
DTEND:20260425T163000Z
STATUS:CONFIRMED
SEQUENCE:5
BEGIN:VALARM
TRIGGER:-PT30M
DESCRIPTION:Drunken Noodles
ACTION:DISPLAY
END:VALARM
END:VEVENT
END:VCALENDAR