BEGIN:VCALENDAR
VERSION:2.0
PRODID:-//Stratis iCal API//FR
CALSCALE:GREGORIAN
X-WR-CALNAME:DEUX PROCUREURS - VOST
BEGIN:VEVENT
UID:event-1499
SUMMARY:DEUX PROCUREURS - VOST
DESCRIPTION:
DTSTAMP:20251202T142032Z
DTSTART:20251205T145500Z
DTEND:20251205T145500Z
STATUS:CONFIRMED
SEQUENCE:3
BEGIN:VALARM
TRIGGER:-PT30M
DESCRIPTION:DEUX PROCUREURS - VOST
ACTION:DISPLAY
END:VALARM
END:VEVENT
END:VCALENDAR