BEGIN:VCALENDAR
VERSION:2.0
PRODID:-//Stratis iCal API//FR
CALSCALE:GREGORIAN
X-WR-CALNAME:CABO NEGRO - VOST
BEGIN:VEVENT
UID:event-1498
SUMMARY:CABO NEGRO - VOST
DESCRIPTION:
DTSTAMP:20251202T141347Z
DTSTART:20251204T192000Z
DTEND:20251204T192000Z
STATUS:CONFIRMED
SEQUENCE:3
BEGIN:VALARM
TRIGGER:-PT30M
DESCRIPTION:CABO NEGRO - VOST
ACTION:DISPLAY
END:VALARM
END:VEVENT
END:VCALENDAR